Workbook

Sheet Свод
B1: Мониторинг организации работы с одаренными детьми в Ставропольском крае
A2: 1. | B2: Общие данные
B3: Наименование муниципального образования | D3: Андроповский_район | E3: Андроповский_район | F3: Андроповский_район | G3: Андроповский_район | H3: Андроповский_район | I3: Андроповский_район | J3: Андроповский_район | K3: Андроповский_район | L3: Андроповский_район | M3: Андроповский_район | N3: Андроповский_район | O3: Андроповский_район | P3: Андроповский_район | Q3: Андроповский_район
B4: Тип населенного пункта | D4: Село | E4: Село | F4: Село | G4: Село | H4: Село | I4: Село | J4: Село | K4: Село | L4: Село | M4: Село | N4: Село | O4: Село | P4: Село | Q4: Село
B5: Наименование образовательной организации | D5: МБОУ СОШ №1 | E5: МКОУ СОШ №2 | F5: МКОУ СОШ №3 | G5: МКОУ СОШ №4 | H5: МКОУ СОШ №5 | I5: МКОУ ООШ №6 | J5: МКОУ СОШ №7 | K5: МБОУ СОШ №8 | L5: МКОУ СОШ №9 | M5: МКОУ СОШ №10 | N5: МБОУ СОШ №11 | O5: МКОУ СОШ №12 | P5: МБОУ СОШ №14 | Q5: МКОУ ООШ №15
B6: Вид общеобразовательной организации | D6: СОШ | E6: СОШ | F6: СОШ | G6: СОШ | H6: СОШ | I6: ООШ | J6: СОШ | K6: СОШ | L6: СОШ | M6: СОШ | N6: СОШ | O6: СОШ | P6: СОШ | Q6: ООШ
B7: Количество обучающихся (всего) | D7: 751 | E7: 208 | F7: 156 | G7: 106 | H7: 126 | I7: 45 | J7: 237 | K7: 224 | L7: 105 | M7: 198 | N7: 305 | O7: 109 | P7: 384 | Q7: 31
B8: в 1-4 классах | D8: 334 | E8: 100 | F8: 62 | G8: 49 | H8: 62 | I8: 26 | J8: 114 | K8: 99 | L8: 53 | M8: 79 | N8: 141 | O8: 58 | P8: 156 | Q8: 13
B9: в 5-8 классах | D9: 308 | E9: 75 | F9: 80 | G9: 39 | H9: 47 | I9: 17 | J9: 90 | K9: 117 | L9: 43 | M9: 101 | N9: 114 | O9: 43 | P9: 168 | Q9: 15
B10: в 9,10,11 (12) классах | D10: 109 | E10: 33 | F10: 14 | G10: 18 | H10: 17 | I10: 2 | J10: 33 | K10: 8 | L10: 10 | M10: 18 | N10: 50 | O10: 8 | P10: 60 | Q10: 3
B11: Количество педагогов (всего) | D11: 35 | E11: 24 | F11: 22 | G11: 10 | H11: 17 | I11: 10 | J11: 27 | K11: 17 | L11: 13 | M11: 20 | N11: 24 | O11: 12 | P11: 27 | Q11: 9
B12: в том числе, работаюших в 9,10,11 классах | D12: 16 | E12: 12 | F12: 9 | G12: 7 | H12: 9 | I12: 6 | J12: 15 | K12: 10 | L12: 9 | M12: 18 | N12: 15 | O12: 7 | P12: 16 | Q12: 7
B13: Количество родителей (всего) | D13: 812 | E13: 136 | F13: 135 | G13: 78 | H13: 226 | I13: 33 | J13: 180 | K13: 83 | L13: 48 | M13: 123 | N13: 276 | O13: 78 | P13: 305 | Q13: 20
A14: 2. | B14: Организация работы с одаренными детьми в образовательных организациях
B15: Наличие в Программе развития блока, направленного на работу с одаренными детьми | D15: Да | E15: Да | F15: Да | G15: Да | H15: Да | I15: Да | J15: Да | K15: Да | L15: Да | M15: Да | N15: Да | O15: Да | P15: Да | Q15: Да
B16: Наличие целевой программы по работе с одаренными детьми | D16: долгосрочная (3 года и более) | E16: долгосрочная (3 года и более) | F16: краткосрочная (1-2 года) | G16: краткосрочная (1-2 года) | H16: в стадии разработки | I16: краткосрочная (1-2 года) | J16: долгосрочная (3 года и более) | K16: краткосрочная (1-2 года) | L16: краткосрочная (1-2 года) | M16: краткосрочная (1-2 года) | N16: долгосрочная (3 года и более) | O16: краткосрочная (1-2 года) | P16: краткосрочная (1-2 года) | Q16: краткосрочная (1-2 года)
B17: Наличие плана работы с одаренными детьми | D17: Да | E17: Да | F17: Да | G17: Да | H17: Да | I17: Да | J17: Да | K17: Да | L17: Да | M17: Да | N17: Да | O17: Да | P17: Да | Q17: Да
B18: Наличие в ОО нормативно- правовых документов, локальных актов, регулирующих работу с одаренными детьми
B19: федерального уровня | D19: Нет | E19: Нет | F19: Да | G19: Да | H19: Да | I19: Да | J19: Да | K19: Да | L19: Нет | M19: Да | N19: Да | O19: Да | P19: Да | Q19: Нет
B20: краевого уровня | D20: Да | E20: Да | F20: Да | G20: Да | H20: Да | I20: Да | J20: Да | K20: Да | L20: Да | M20: Да | N20: Да | O20: Да | P20: Да | Q20: Да
B21: муниципального уровня | D21: Да | E21: Да | F21: Да | G21: Да | H21: Да | I21: Да | J21: Да | K21: Да | L21: Да | M21: Да | N21: Да | O21: Да | P21: Да | Q21: Да
B22: уровня ОО | D22: Да | E22: Да | F22: Да | G22: Да | H22: Да | I22: Да | J22: Да | K22: Да | L22: Да | M22: Да | N22: Да | O22: Да | P22: Да | Q22: Да
B23: Рассмотрение вопросов по работе с одаренными детьми на заседаниях
B24: управляющего совета | D24: Да | E24: Да | F24: Да | G24: Да | H24: Да | I24: Да | J24: Да | K24: Да | L24: Да | M24: Да | N24: Да | O24: Да | P24: Да | Q24: Да
B25: общешкольного родительского комитета | D25: Да | E25: Да | F25: Да | G25: Да | H25: Да | I25: Да | J25: Да | K25: Да | L25: Да | M25: Да | N25: Да | O25: Да | P25: Да | Q25: Да
B26: педагогического совета | D26: Да | E26: Да | F26: Да | G26: Да | H26: Да | I26: Да | J26: Да | K26: Да | L26: Да | M26: Да | N26: Да | O26: Да | P26: Да | Q26: Да
B27: методического совета | D27: Да | E27: Да | F27: Да | G27: Да | H27: Да | I27: Да | J27: Да | K27: 0 | L27: Да | M27: Да | N27: Да | O27: Да | P27: Да | Q27: Да
B28: Наличие в ОО ответственного за работу с одаренными детьми (нормативно закрепленное) | D28: Да | E28: Да | F28: Да | G28: Да | H28: Да | I28: Да | J28: Да | K28: Да | L28: Да | M28: Да | N28: Да | O28: Да | P28: Нет | Q28: Да
B29: Наличие в ОО инновационной деятельности в сфере работы с одаренными детьми | D29: Нет | E29: Нет | F29: Нет | G29: Нет | H29: Нет | I29: Нет | J29: Нет | K29: Нет | L29: Нет | M29: Нет | N29: Нет | O29: Нет | P29: Нет | Q29: Нет
B30: если да, то укажите наименования инновационного проекта | D30: 0 | E30: 0 | F30: 0 | G30: 0 | H30: 0 | I30: 0 | J30: 0 | K30: 0 | L30: 0 | M30: 0 | N30: 0 | O30: 0 | P30: 0 | Q30: 0
B31: Наличие в ОО банка данных о детях с повышенным уровнем способностей в разных видах деятельности:
B32: интеллектуальная | D32: Да | E32: Да | F32: Да | G32: Да | H32: Да | I32: Да | J32: Да | K32: Да | L32: Да | M32: Да | N32: Да | O32: Да | P32: Да | Q32: Да
B33: академическая (научная) | D33: Да | E33: Да | F33: Да | G33: Нет | H33: Да | I33: Нет | J33: Да | K33: Да | L33: Нет | M33: Да | N33: Да | O33: Нет | P33: Нет | Q33: Нет
B34: художественно – изобразительная | D34: Да | E34: Да | F34: Да | G34: Нет | H34: Да | I34: Да | J34: Да | K34: Да | L34: Нет | M34: Да | N34: Да | O34: Да | P34: Да | Q34: Да
B35: музыкальная | D35: Да | E35: Да | F35: Да | G35: Нет | H35: Да | I35: Да | J35: Да | K35: Да | L35: Да | M35: Да | N35: Да | O35: Нет | P35: Да | Q35: Да
B36: литературная | D36: Да | E36: Да | F36: Да | G36: Да | H36: Да | I36: Да | J36: Да | K36: Да | L36: Да | M36: Да | N36: Да | O36: Да | P36: Да | Q36: Да
B37: техническая | D37: Нет | E37: Да | F37: Да | G37: Нет | H37: Нет | I37: Нет | J37: Да | K37: Да | L37: Нет | M37: Да | N37: Да | O37: Нет | P37: Нет | Q37: Нет
B38: социальная | D38: Да | E38: Да | F38: Да | G38: Да | H38: Нет | I38: Нет | J38: Да | K38: Да | L38: Нет | M38: Да | N38: Да | O38: Да | P38: Да | Q38: Нет
B39: спортивная | D39: Да | E39: Да | F39: Да | G39: Да | H39: Да | I39: Да | J39: Да | K39: Да | L39: Да | M39: Да | N39: Да | O39: Да | P39: Да | Q39: Нет
B40: Наличие в ОО инструментария (банка анкет, опросников и др.) по выявлению одаренности у детей | D40: скорее да | E40: скорее да | F40: да | G40: да | H40: да | I40: да | J40: да | K40: да | L40: скорее да | M40: да | N40: да | O40: да | P40: да | Q40: скорее нет
...

Sheet Результат
B1: Мониторинг организации работы с одаренными детьми в Ставропольском крае | E1: Город | F1: Село | G1: Всего
A2: 1. | B2: Общие данные
B3: Наименование муниципального образования | E3: =Свод!D3 -> Андроповский_район
B4: Общее количество образовательных организаций | E4: =COUNTIF(Свод!$D4:$BA4,E1) -> 0 | F4: =COUNTIF(Свод!$D4:$BA4,F1) -> 14 | G4: =SUM(E4:F4) -> 14
B5: Вид общеобразовательной организации | C5: СОШ | E5: =COUNTIFS(Свод!$D$6:$BA$6,C5,Свод!$D$4:$BA$4,E$1) -> 0 | F5: =COUNTIFS(Свод!$D$6:$BA$6,C5,Свод!$D$4:$BA$4,F$1) -> 12 | G5: =SUM(E5:F5) -> 12
C6: ООШ | E6: =COUNTIFS(Свод!$D$6:$BA$6,C6,Свод!$D$4:$BA$4,E$1) -> 0 | F6: =COUNTIFS(Свод!$D$6:$BA$6,C6,Свод!$D$4:$BA$4,F$1) -> 2 | G6: =SUM(E6:F6) -> 2
C7: НОШ | E7: =COUNTIFS(Свод!$D$6:$BA$6,C7,Свод!$D$4:$BA$4,E$1) -> 0 | F7: =COUNTIFS(Свод!$D$6:$BA$6,C7,Свод!$D$4:$BA$4,F$1) -> 0 | G7: =SUM(E7:F7) -> 0
C8: лицей | E8: =COUNTIFS(Свод!$D$6:$BA$6,C8,Свод!$D$4:$BA$4,E$1) -> 0 | F8: =COUNTIFS(Свод!$D$6:$BA$6,E8,Свод!$D$4:$BA$4,F$1) -> 0 | G8: =SUM(E8:F8) -> 0
C9: гимназия | E9: =COUNTIFS(Свод!$D$6:$BA$6,C9,Свод!$D$4:$BA$4,E$1) -> 0 | F9: =COUNTIFS(Свод!$D$6:$BA$6,E9,Свод!$D$4:$BA$4,F$1) -> 0 | G9: =SUM(E9:F9) -> 0
C10: школа с углубленным изучением одного и более предметов | E10: =COUNTIFS(Свод!$D$6:$BA$6,C10,Свод!$D$4:$BA$4,E$1) -> 0 | F10: =COUNTIFS(Свод!$D$6:$BA$6,E10,Свод!$D$4:$BA$4,F$1) -> 0 | G10: =SUM(E10:F10) -> 0
C11: центр образования | E11: =COUNTIFS(Свод!$D$6:$BA$6,C11,Свод!$D$4:$BA$4,E$1) -> 0 | F11: =COUNTIFS(Свод!$D$6:$BA$6,E11,Свод!$D$4:$BA$4,F$1) -> 0 | G11: =SUM(E11:F11) -> 0
B12: Количество обучающихся (всего) | E12: =SUMIFS(Свод!$D7:$BA7,Свод!$D$4:$BA$4,E$1) -> 0 | F12: =SUMIFS(Свод!$D7:$BA7,Свод!$D$4:$BA$4,F$1) -> 2985 | G12: =SUM(E12:F12) -> 2985
B13: в 1-4 классах | E13: =SUMIFS(Свод!$D8:$BA8,Свод!$D$4:$BA$4,E$1) -> 0 | F13: =SUMIFS(Свод!$D8:$BA8,Свод!$D$4:$BA$4,F$1) -> 1346 | G13: =SUM(E13:F13) -> 1346
B14: в 5-8 классах | E14: =SUMIFS(Свод!$D9:$BA9,Свод!$D$4:$BA$4,E$1) -> 0 | F14: =SUMIFS(Свод!$D9:$BA9,Свод!$D$4:$BA$4,F$1) -> 1257 | G14: =SUM(E14:F14) -> 1257
B15: в 9,10,11 (12) классах | E15: =SUMIFS(Свод!$D10:$BA10,Свод!$D$4:$BA$4,E$1) -> 0 | F15: =SUMIFS(Свод!$D10:$BA10,Свод!$D$4:$BA$4,F$1) -> 383 | G15: =SUM(E15:F15) -> 383
B16: Количество педагогов (всего) | E16: =SUMIFS(Свод!$D11:$BA11,Свод!$D$4:$BA$4,E$1) -> 0 | F16: =SUMIFS(Свод!$D11:$BA11,Свод!$D$4:$BA$4,F$1) -> 267 | G16: =SUM(E16:F16) -> 267
B17: в том числе, работаюших в 9,10,11 классах | E17: =SUMIFS(Свод!$D12:$BA12,Свод!$D$4:$BA$4,E$1) -> 0 | F17: =SUMIFS(Свод!$D12:$BA12,Свод!$D$4:$BA$4,F$1) -> 156 | G17: =SUM(E17:F17) -> 156
B18: Количество родителей (всего) | E18: =SUMIFS(Свод!$D13:$BA13,Свод!$D$4:$BA$4,E$1) -> 0 | F18: =SUMIFS(Свод!$D13:$BA13,Свод!$D$4:$BA$4,F$1) -> 2533 | G18: =SUM(E18:F18) -> 2533
A19: 2. | B19: Организация работы с одаренными детьми в образовательных организациях
B20: Наличие в Программе развития блока, направленного на работу с одаренными детьми | D20: Да | E20: =COUNTIFS(Свод!$D$4:$BA$4,E1,Свод!$D$15:$BA$15,$D20) -> 0 | F20: =COUNTIFS(Свод!$D$4:$BA$4,F1,Свод!$D$15:$BA$15,$D20) -> 14 | G20: =SUM(E20:F20) -> 14
D21: Нет | E21: =COUNTIFS(Свод!$D$4:$BA$4,E2,Свод!$D$15:$BA$15,$D21) -> 0 | F21: =COUNTIFS(Свод!$D$4:$BA$4,F2,Свод!$D$15:$BA$15,$D21) -> 0 | G21: =SUM(E21:F21) -> 0
B22: Наличие целевой программы по работе с одаренными детьми | D22: краткосрочная (1-2 года) | E22: =COUNTIFS(Свод!$D$4:$BA$4,E1,Свод!$D$16:$BA$16,$D22) -> 0 | F22: =COUNTIFS(Свод!$D$4:$BA$4,F1,Свод!$D$16:$BA$16,$D22) -> 9 | G22: =SUM(E22:F22) -> 9
D23: долгосрочная (3 года и более) | E23: =COUNTIFS(Свод!$D$4:$BA$4,E1,Свод!$D$16:$BA$16,$D23) -> 0 | F23: =COUNTIFS(Свод!$D$4:$BA$4,F1,Свод!$D$16:$BA$16,$D23) -> 4 | G23: =SUM(E23:F23) -> 4
D24: в стадии разработки | E24: =COUNTIFS(Свод!$D$4:$BA$4,E1,Свод!$D$16:$BA$16,$D24) -> 0 | F24: =COUNTIFS(Свод!$D$4:$BA$4,F1,Свод!$D$16:$BA$16,$D24) -> 1 | G24: =SUM(E24:F24) -> 1
D25: нет | E25: =COUNTIFS(Свод!$D$4:$BA$4,E1,Свод!$D$16:$BA$16,$D25) -> 0 | F25: =COUNTIFS(Свод!$D$4:$BA$4,F1,Свод!$D$16:$BA$16,$D25) -> 0 | G25: =SUM(E25:F25) -> 0
B26: Наличие плана работы с одаренными детьми | D26: Да | E26: =COUNTIFS(Свод!$D$4:$BA$4,E1,Свод!$D$17:$BA$17,$D26) -> 0 | F26: =COUNTIFS(Свод!$D$4:$BA$4,F1,Свод!$D$17:$BA$17,$D26) -> 14 | G26: =SUM(E26:F26) -> 14
D27: Нет | E27: =COUNTIFS(Свод!$D$4:$BA$4,E1,Свод!$D$17:$BA$17,$D27) -> 0 | F27: =COUNTIFS(Свод!$D$4:$BA$4,F1,Свод!$D$17:$BA$17,$D27) -> 0 | G27: =SUM(E27:F27) -> 0
B28: Наличие в ОО нормативно- правовых документов, локальных актов, регулирующих работу с одаренными детьми
B29: федерального уровня | D29: Да | E29: =COUNTIFS(Свод!$D$4:$BA$4,E1,Свод!$D$19:$BA$19,$D29) -> 0 | F29: =COUNTIFS(Свод!$D$4:$BA$4,F1,Свод!$D$19:$BA$19,$D29) -> 10 | G29: =SUM(E29:F29) -> 10
D30: Нет | E30: =COUNTIFS(Свод!$D$4:$BA$4,E1,Свод!$D$19:$BA$19,$D30) -> 0 | F30: =COUNTIFS(Свод!$D$4:$BA$4,F1,Свод!$D$19:$BA$19,$D30) -> 4 | G30: =SUM(E30:F30) -> 4
B31: краевого уровня | D31: Да | E31: =COUNTIFS(Свод!$D$4:$BA$4,E1,Свод!$D$20:$BA$20,$D31) -> 0 | F31: =COUNTIFS(Свод!$D$4:$BA$4,F1,Свод!$D$20:$BA$20,$D31) -> 14 | G31: =SUM(E31:F31) -> 14
D32: Нет | E32: =COUNTIFS(Свод!$D$4:$BA$4,E1,Свод!$D$20:$BA$20,$D32) -> 0 | F32: =COUNTIFS(Свод!$D$4:$BA$4,F1,Свод!$D$20:$BA$20,$D32) -> 0 | G32: =SUM(E32:F32) -> 0
B33: муниципального уровня | D33: Да | E33: =COUNTIFS(Свод!$D$4:$BA$4,E$1,Свод!$D$20:$BA$20,$D33) -> 0 | F33: =COUNTIFS(Свод!$D$4:$BA$4,F$1,Свод!$D$20:$BA$20,$D33) -> 14 | G33: =SUM(E33:F33) -> 14
D34: Нет | E34: =COUNTIFS(Свод!$D$4:$BA$4,E$1,Свод!$D$20:$BA$20,$D34) -> 0 | F34: =COUNTIFS(Свод!$D$4:$BA$4,F$1,Свод!$D$20:$BA$20,$D34) -> 0 | G34: =SUM(E34:F34) -> 0
B35: уровня ОО | D35: Да | E35: =COUNTIFS(Свод!$D$4:$BA$4,E$1,Свод!$D$21:$BA$21,$D35) -> 0 | F35: =COUNTIFS(Свод!$D$4:$BA$4,F$1,Свод!$D$21:$BA$21,$D35) -> 14 | G35: =SUM(E35:F35) -> 14
D36: Нет | E36: =COUNTIFS(Свод!$D$4:$BA$4,E$1,Свод!$D$21:$BA$21,$D36) -> 0 | F36: =COUNTIFS(Свод!$D$4:$BA$4,F$1,Свод!$D$21:$BA$21,$D36) -> 0 | G36: =SUM(E36:F36) -> 0
B37: Рассмотрение вопросов по работе с одаренными детьми на заседаниях
B38: управляющего совета | D38: Да | E38: =COUNTIFS(Свод!$D$4:$BA$4,E$1,Свод!$D$24:$BA$24,$D38) -> 0 | F38: =COUNTIFS(Свод!$D$4:$BA$4,F$1,Свод!$D$24:$BA$24,$D38) -> 14 | G38: =SUM(E38:F38) -> 14
D39: Нет | E39: =COUNTIFS(Свод!$D$4:$BA$4,E$1,Свод!$D$24:$BA$24,$D39) -> 0 | F39: =COUNTIFS(Свод!$D$4:$BA$4,F$1,Свод!$D$24:$BA$24,$D39) -> 0 | G39: =SUM(E39:F39) -> 0
B40: общешкольного родительского комитета | D40: Да | E40: =COUNTIFS(Свод!$D$4:$BA$4,E$1,Свод!$D$25:$BA$25,$D40) -> 0 | F40: =COUNTIFS(Свод!$D$4:$BA$4,F$1,Свод!$D$25:$BA$25,$D40) -> 14 | G40: =SUM(E40:F40) -> 14
...

Sheet Лист3
A1: Город | B1: да, заместитель директора | C1: нет | D1: да | E1: от 1 класса до 11 класса
A2: Село | B2: да, педагогический работник | C2: да, площадка федерального уровня | D2: скорее да | E2: от 2 класса до 11 класса
A3: Да | B3: да, психолог | C3: да, площадка краевого уровня | D3: скорее нет | E3: от 3 класса до 11 класса
A4: Нет | B4: нет | C4: да, площадка муниципального уровня | D4: нет | E4: от 4 класса до 11 класса
E5: от 5 класса до 11 класса
A6: СОШ | E6: от 6 класса до 11 класса
A7: ООШ | E7: от 7 класса до 11 класса
A8: НОШ | E8: от 8 класса до 11 класса
A9: лицей | E9: от 9 класса до 11 класса
A10: гимназия | E10: от 10 класса до 11 класса
A11: школа с углубленным изучением одного и более предметов | E11: 11 класс
A12: центр образования
A14: краткосрочная (1-2 года)
A15: долгосрочная (3 года и более)
A16: в стадии разработки
A17: нет
