Workbook

Sheet Свод
B1: Мониторинг организации работы с одаренными детьми в Ставропольском крае
A2: 1. | B2: Общие данные
B3: Наименование муниципального образования | D3: Андроповский_район | E3: Андроповский_район | F3: Андроповский_район | G3: Андроповский_район | H3: Андроповский_район | I3: Андроповский_район | J3: Андроповский_район | K3: Андроповский_район | L3: Андроповский_район | M3: Андроповский_район | N3: Андроповский_район | O3: Андроповский_район | P3: Андроповский_район | Q3: Андроповский_район
B4: Тип населенного пункта | D4: Село | E4: Село | F4: Село | G4: Село | H4: Село | I4: Село | J4: Село | K4: Село | L4: Село | M4: Село | N4: Село | O4: Село | P4: Село | Q4: Село
B5: Наименование образовательной организации | D5: МБОУ СОШ №1 | E5: МКОУ СОШ №2 | F5: МКОУ СОШ №3 | G5: МКОУ СОШ №4 | H5: МКОУ СОШ №5 | I5: МКОУ ООШ №6 | J5: МКОУ СОШ №7 | K5: МБОУ СОШ №8 | L5: МКОУ СОШ №9 | M5: МКОУ СОШ №10 | N5: МБОУ СОШ №11 | O5: МКОУ СОШ №12 | P5: МБОУ СОШ №14 | Q5: МКОУ ООШ №15
B6: Вид общеобразовательной организации | D6: СОШ | E6: СОШ | F6: СОШ | G6: СОШ | H6: СОШ | I6: ООШ | J6: СОШ | K6: СОШ | L6: СОШ | M6: СОШ | N6: СОШ | O6: СОШ | P6: СОШ | Q6: ООШ
B7: Количество обучающихся (всего) | D7: 751 | E7: 208 | F7: 156 | G7: 106 | H7: 126 | I7: 45 | J7: 237 | K7: 224 | L7: 105 | M7: 198 | N7: 305 | O7: 109 | P7: 384 | Q7: 31
B8: в 1-4 классах | D8: 334 | E8: 100 | F8: 62 | G8: 49 | H8: 62 | I8: 26 | J8: 114 | K8: 99 | L8: 53 | M8: 79 | N8: 141 | O8: 58 | P8: 156 | Q8: 13
B9: в 5-8 классах | D9: 308 | E9: 75 | F9: 80 | G9: 39 | H9: 47 | I9: 17 | J9: 90 | K9: 117 | L9: 43 | M9: 101 | N9: 114 | O9: 43 | P9: 168 | Q9: 15
B10: в 9,10,11 (12) классах | D10: 109 | E10: 33 | F10: 14 | G10: 18 | H10: 17 | I10: 2 | J10: 33 | K10: 8 | L10: 10 | M10: 18 | N10: 50 | O10: 8 | P10: 60 | Q10: 3
B11: Количество педагогов (всего) | D11: 35 | E11: 24 | F11: 22 | G11: 10 | H11: 17 | I11: 10 | J11: 27 | K11: 17 | L11: 13 | M11: 20 | N11: 24 | O11: 12 | P11: 27 | Q11: 9
B12: в том числе, работаюших в 9,10,11 классах | D12: 16 | E12: 12 | F12: 9 | G12: 7 | H12: 9 | I12: 6 | J12: 15 | K12: 10 | L12: 9 | M12: 18 | N12: 15 | O12: 7 | P12: 16 | Q12: 7
B13: Количество родителей (всего) | D13: 812 | E13: 136 | F13: 135 | G13: 78 | H13: 226 | I13: 33 | J13: 180 | K13: 83 | L13: 48 | M13: 123 | N13: 276 | O13: 78 | P13: 305 | Q13: 20
A14: 2. | B14: Организация работы с одаренными детьми в образовательных организациях
B15: Наличие в Программе развития блока, направленного на работу с одаренными детьми | D15: Да | E15: Да | F15: Да | G15: Да | H15: Да | I15: Да | J15: Да | K15: Да | L15: Да | M15: Да | N15: Да | O15: Да | P15: Да | Q15: Да
B16: Наличие целевой программы по работе с одаренными детьми | D16: долгосрочная (3 года и более) | E16: долгосрочная (3 года и более) | F16: краткосрочная (1-2 года) | G16: краткосрочная (1-2 года) | H16: в стадии разработки | I16: краткосрочная (1-2 года) | J16: долгосрочная (3 года и более) | K16: краткосрочная (1-2 года) | L16: краткосрочная (1-2 года) | M16: краткосрочная (1-2 года) | N16: долгосрочная (3 года и более) | O16: краткосрочная (1-2 года) | P16: краткосрочная (1-2 года) | Q16: краткосрочная (1-2 года)
B17: Наличие плана работы с одаренными детьми | D17: Да | E17: Да | F17: Да | G17: Да | H17: Да | I17: Да | J17: Да | K17: Да | L17: Да | M17: Да | N17: Да | O17: Да | P17: Да | Q17: Да
B18: Наличие в ОО нормативно- правовых документов, локальных актов, регулирующих работу с одаренными детьми
B19: федерального уровня | D19: Нет | E19: Нет | F19: Да | G19: Да | H19: Да | I19: Да | J19: Да | K19: Да | L19: Нет | M19: Да | N19: Да | O19: Да | P19: Да | Q19: Нет
B20: краевого уровня | D20: Да | E20: Да | F20: Да | G20: Да | H20: Да | I20: Да | J20: Да | K20: Да | L20: Да | M20: Да | N20: Да | O20: Да | P20: Да | Q20: Да
B21: муниципального уровня | D21: Да | E21: Да | F21: Да | G21: Да | H21: Да | I21: Да | J21: Да | K21: Да | L21: Да | M21: Да | N21: Да | O21: Да | P21: Да | Q21: Да
B22: уровня ОО | D22: Да | E22: Да | F22: Да | G22: Да | H22: Да | I22: Да | J22: Да | K22: Да | L22: Да | M22: Да | N22: Да | O22: Да | P22: Да | Q22: Да
B23: Рассмотрение вопросов по работе с одаренными детьми на заседаниях
B24: управляющего совета | D24: Да | E24: Да | F24: Да | G24: Да | H24: Да | I24: Да | J24: Да | K24: Да | L24: Да | M24: Да | N24: Да | O24: Да | P24: Да | Q24: Да
B25: общешкольного родительского комитета | D25: Да | E25: Да | F25: Да | G25: Да | H25: Да | I25: Да | J25: Да | K25: Да | L25: Да | M25: Да | N25: Да | O25: Да | P25: Да | Q25: Да
B26: педагогического совета | D26: Да | E26: Да | F26: Да | G26: Да | H26: Да | I26: Да | J26: Да | K26: Да | L26: Да | M26: Да | N26: Да | O26: Да | P26: Да | Q26: Да
B27: методического совета | D27: Да | E27: Да | F27: Да | G27: Да | H27: Да | I27: Да | J27: Да | K27: 0 | L27: Да | M27: Да | N27: Да | O27: Да | P27: Да | Q27: Да
B28: Наличие в ОО ответственного за работу с одаренными детьми (нормативно закрепленное) | D28: Да | E28: Да | F28: Да | G28: Да | H28: Да | I28: Да | J28: Да | K28: Да | L28: Да | M28: Да | N28: Да | O28: Да | P28: Нет | Q28: Да
B29: Наличие в ОО инновационной деятельности в сфере работы с одаренными детьми | D29: Нет | E29: Нет | F29: Нет | G29: Нет | H29: Нет | I29: Нет | J29: Нет | K29: Нет | L29: Нет | M29: Нет | N29: Нет | O29: Нет | P29: Нет | Q29: Нет
B30: если да, то укажите наименования инновационного проекта | D30: 0 | E30: 0 | F30: 0 | G30: 0 | H30: 0 | I30: 0 | J30: 0 | K30: 0 | L30: 0 | M30: 0 | N30: 0 | O30: 0 | P30: 0 | Q30: 0
B31: Наличие в ОО банка данных о детях с повышенным уровнем способностей в разных видах деятельности:
B32: интеллектуальная | D32: Да | E32: Да | F32: Да | G32: Да | H32: Да | I32: Да | J32: Да | K32: Да | L32: Да | M32: Да | N32: Да | O32: Да | P32: Да | Q32: Да
B33: академическая (научная) | D33: Да | E33: Да | F33: Да | G33: Нет | H33: Да | I33: Нет | J33: Да | K33: Да | L33: Нет | M33: Да | N33: Да | O33: Нет | P33: Нет | Q33: Нет
B34: художественно – изобразительная | D34: Да | E34: Да | F34: Да | G34: Нет | H34: Да | I34: Да | J34: Да | K34: Да | L34: Нет | M34: Да | N34: Да | O34: Да | P34: Да | Q34: Да
B35: музыкальная | D35: Да | E35: Да | F35: Да | G35: Нет | H35: Да | I35: Да | J35: Да | K35: Да | L35: Да | M35: Да | N35: Да | O35: Нет | P35: Да | Q35: Да
B36: литературная | D36: Да | E36: Да | F36: Да | G36: Да | H36: Да | I36: Да | J36: Да | K36: Да | L36: Да | M36: Да | N36: Да | O36: Да | P36: Да | Q36: Да
B37: техническая | D37: Нет | E37: Да | F37: Да | G37: Нет | H37: Нет | I37: Нет | J37: Да | K37: Да | L37: Нет | M37: Да | N37: Да | O37: Нет | P37: Нет | Q37: Нет
B38: социальная | D38: Да | E38: Да | F38: Да | G38: Да | H38: Нет | I38: Нет | J38: Да | K38: Да | L38: Нет | M38: Да | N38: Да | O38: Да | P38: Да | Q38: Нет
B39: спортивная | D39: Да | E39: Да | F39: Да | G39: Да | H39: Да | I39: Да | J39: Да | K39: Да | L39: Да | M39: Да | N39: Да | O39: Да | P39: Да | Q39: Нет
B40: Наличие в ОО инструментария (банка анкет, опросников и др.) по выявлению одаренности у детей | D40: скорее да | E40: скорее да | F40: да | G40: да | H40: да | I40: да | J40: да | K40: да | L40: скорее да | M40: да | N40: да | O40: да | P40: да | Q40: скорее нет
B41: Организационная модель работы с одаренными детьми в ОО:
B42: центр дополнительного образования на базе ОО | D42: Нет | E42: Нет | F42: Нет | G42: Нет | H42: Нет | I42: Нет | J42: Нет | K42: Нет | L42: Нет | M42: Да | N42: Нет | O42: Нет | P42: Да | Q42: Нет
B43: школа полного дня | D43: Нет | E43: Нет | F43: Нет | G43: Нет | H43: Нет | I43: Нет | J43: Нет | K43: Да | L43: Нет | M43: Нет | N43: Нет | O43: Нет | P43: Нет | Q43: Нет
B44: центр по работе с одаренными детьми | D44: Да | E44: Нет | F44: Нет | G44: Нет | H44: Нет | I44: Нет | J44: Нет | K44: Нет | L44: Нет | M44: Да | N44: Нет | O44: Нет | P44: Нет | Q44: Нет
B45: филиал МАН | D45: Нет | E45: Нет | F45: Нет | G45: Нет | H45: Нет | I45: Нет | J45: Нет | K45: Нет | L45: Нет | M45: Нет | N45: Нет | O45: Нет | P45: Нет | Q45: Нет
B46: школьное научное общество учащихся | D46: Нет | E46: Да | F46: Нет | G46: Нет | H46: Нет | I46: Нет | J46: Да | K46: Нет | L46: Нет | M46: Нет | N46: Да | O46: Да | P46: Нет | Q46: Нет
B47: система внеурочной деятельности | D47: Да | E47: Да | F47: Да | G47: Да | H47: Да | I47: Да | J47: Да | K47: Да | L47: Да | M47: Да | N47: Да | O47: Да | P47: Да | Q47: Да
A48: 3. | B48: Система работы по развитию способностей у детей в ОО
B49: Осуществление психолого- педагогического сопровождения одаренных детей | D49: да | E49: скорее да | F49: да | G49: скорее да | H49: да | I49: нет | J49: да | K49: да | L49: да | M49: да | N49: да | O49: скорее да | P49: скорее да | Q49: скорее нет
B50: психодиагностика, мониторинг | D50: скорее да | E50: скорее да | F50: да | G50: скорее да | H50: да | I50: да | J50: да | K50: да | L50: скорее да | M50: да | N50: скорее да | O50: да | P50: скорее да | Q50: скорее нет
B51: коррекционно- развивающие занятия | D51: скорее да | E51: скорее да | F51: скорее нет | G51: скорее да | H51: да | I51: нет | J51: да | K51: да | L51: нет | M51: скорее нет | N51: да | O51: да | P51: нет | Q51: скорее нет
B52: занятия подготовке к конкурсам, олимпиадам, смотрам, соревнованиям | D52: да | E52: да | F52: да | G52: да | H52: да | I52: да | J52: да | K52: да | L52: да | M52: да | N52: да | O52: да | P52: да | Q52: скорее да
B53: работа с родителями | D53: скорее да | E53: да | F53: да | G53: да | H53: да | I53: да | J53: да | K53: да | L53: скорее да | M53: да | N53: да | O53: да | P53: да | Q53: да
B54: работа с педагогами | D54: да | E54: да | F54: да | G54: да | H54: да | I54: да | J54: да | K54: да | L54: да | M54: да | N54: да | O54: да | P54: да | Q54: да
B55: Организация сотрудничества по работе с одаренными детьми, на основе договоров
B56: с учреждениями высшего профессионального образования | D56: нет | E56: нет | F56: нет | G56: нет | H56: нет | I56: нет | J56: нет | K56: нет | L56: да | M56: нет | N56: нет | O56: нет | P56: нет | Q56: нет
B57: с учреждениями дополнительного образования | D57: нет | E57: да | F57: нет | G57: нет | H57: да | I57: да | J57: да | K57: да | L57: нет | M57: нет | N57: да | O57: нет | P57: да | Q57: нет
B58: с учреждениями культуры | D58: да | E58: да | F58: да | G58: да | H58: нет | I58: да | J58: да | K58: да | L58: да | M58: нет | N58: да | O58: да | P58: да | Q58: нет
B59: с учреждениями спорта | D59: нет | E59: да | F59: да | G59: нет | H59: нет | I59: да | J59: да | K59: да | L59: да | M59: нет | N59: да | O59: да | P59: да | Q59: нет
B60: Количество обучающихся школы, которым предоставлена возможнось освоения любой из дисцисплин на углубленном уровне | D60: 0 | E60: 17 | F60: 14 | G60: 0 | H60: 45 | I60: 0 | J60: 5 | K60: 0 | L60: 0 | M60: 0 | N60: 0 | O60: 0 | P60: 0 | Q60: 0
B61: Количество обучающихся, которым предоставлена возможнось заниматься в центрах по модели «Сириус», в кванториумах и др. | D61: 0 | E61: 0 | F61: 0 | G61: 0 | H61: 0 | I61: 0 | J61: 0 | K61: 0 | L61: 0 | M61: 0 | N61: 7 | O61: 0 | P61: 0 | Q61: 0
B62: Оцените спектр возрастных границ предметных олимпиад смотров и конкурсов | D62: от 1 класса до 11 класса | E62: от 7 класса до 11 класса | F62: от 2 класса до 11 класса | G62: от 1 класса до 11 класса | H62: от 1 класса до 11 класса | I62: от 2 класса до 11 класса | J62: от 1 класса до 11 класса | K62: от 2 класса до 11 класса | L62: от 3 класса до 11 класса | M62: от 1 класса до 11 класса | N62: от 1 класса до 11 класса | O62: от 1 класса до 11 класса | P62: от 1 класса до 11 класса | Q62: от 1 класса до 11 класса
B63: Наличие системы профессионального самоопределения, профильного и профессионального обучения в старших классах ОО | D63: да | E63: да | F63: да | G63: скорее нет | H63: да | I63: да | J63: да | K63: да | L63: скорее нет | M63: да | N63: да | O63: да | P63: да | Q63: нет
B64: Привлекаются ли к работе с учащимися на всех уровнях специально подготовленные наставники из университетов, предприятий, научных центров, креативной индустрии | D64: нет | E64: нет | F64: нет | G64: нет | H64: нет | I64: да | J64: да | K64: нет | L64: нет | M64: да | N64: нет | O64: нет | P64: нет | Q64: нет
A65: 4. | B65: Кадровое обеспечение работы с одаренными детьми в ОО
B66: Количество педагогов, подготовивших участников олимпиад, конкурсов, соревнований, проводимых на муниципальном уровне и выше (региональном, федеральном, международном) за период 2016, 2017, 2018 годы | D66: 7 | E66: 11 | F66: 11 | G66: 6 | H66: 8 | I66: 8 | J66: 10 | K66: 6 | L66: 2 | M66: 17 | N66: 9 | O66: 10 | P66: 23 | Q66: 3
B67: из них имеют: высшее образование | D67: 7 | E67: 11 | F67: 10 | G67: 6 | H67: 8 | I67: 7 | J67: 9 | K67: 5 | L67: 2 | M67: 14 | N67: 9 | O67: 9 | P67: 20 | Q67: 3
B68: в том числе высшее педагогическое образование | D68: 7 | E68: 11 | F68: 10 | G68: 0 | H68: 8 | I68: 6 | J68: 9 | K68: 5 | L68: 2 | M68: 14 | N68: 9 | O68: 9 | P68: 20 | Q68: 3
B69: среднее профессиональное образование | D69: 0 | E69: 0 | F69: 1 | G69: 0 | H69: 0 | I69: 1 | J69: 1 | K69: 1 | L69: 0 | M69: 3 | N69: 0 | O69: 1 | P69: 3 | Q69: 0
B70: среднее общее образование | D70: 0 | E70: 0 | F70: 0 | G70: 0 | H70: 0 | I70: 0 | J70: 0 | K70: 0 | L70: 0 | M70: 0 | N70: 0 | O70: 0 | P70: 0 | Q70: 0
B71: из них имеют педагогический стаж | D71: 0 | E71: 0 | F71: 0 | G71: 0 | H71: 0 | I71: 2 | J71: 0 | K71: 0 | L71: 0 | M71: 0 | N71: 0 | O71: 0 | P71: 0 | Q71: 0
B72: менее 3 лет | D72: 0 | E72: 0 | F72: 2 | G72: 0 | H72: 0 | I72: 0 | J72: 0 | K72: 0 | L72: 0 | M72: 4 | N72: 0 | O72: 0 | P72: 1 | Q72: 2
B73: 3 года – 10 лет | D73: 0 | E73: 1 | F73: 1 | G73: 2 | H73: 0 | I73: 1 | J73: 0 | K73: 2 | L73: 1 | M73: 4 | N73: 0 | O73: 0 | P73: 2 | Q73: 0
B74: 11–15 лет | D74: 0 | E74: 1 | F74: 0 | G74: 0 | H74: 0 | I74: 0 | J74: 0 | K74: 1 | L74: 0 | M74: 0 | N74: 1 | O74: 0 | P74: 1 | Q74: 1
B75: 16 – 25 лет | D75: 3 | E75: 6 | F75: 5 | G75: 4 | H75: 2 | I75: 0 | J75: 2 | K75: 0 | L75: 1 | M75: 9 | N75: 2 | O75: 0 | P75: 7 | Q75: 0
B76: более 25 лет | D76: 4 | E76: 3 | F76: 3 | G76: 0 | H76: 6 | I76: 5 | J76: 8 | K76: 3 | L76: 0 | M76: 3 | N76: 6 | O76: 10 | P76: 11 | Q76: 0
B77: из них имеют высшую квалификационную категорию | D77: 7 | E77: 3 | F77: 4 | G77: 1 | H77: 8 | I77: 0 | J77: 8 | K77: 3 | L77: 0 | M77: 9 | N77: 7 | O77: 8 | P77: 12 | Q77: 1
... B79: без категории | D79: 0 | E79: 10 | F79: 4 | G79: 2 | H79: 0 | I79: 3 | J79: 2 | K79: 2 | L79: 1 | M79: 6 | N79: 0 | O79: 0 | P79: 3 | Q79: 2
B80: Образовательная организация укомплектована педагогическими работниками, которые:
B81: создают условия для успешной деятельности, позитивной мотивации, а также самомотивирования обучающихся | D81: да | E81: да | F81: скорее да | G81: да | H81: да | I81: да | J81: да | K81: да | L81: скорее да | M81: скорее да | N81: да | O81: да | P81: скорее да | Q81: скорее да
B82: разрабатывают программы учебных предметов, курсов, методические и дидактические материалы для одаренных обучающихся | D82: да | E82: скорее да | F82: скорее да | G82: да | H82: да | I82: да | J82: да | K82: да | L82: скорее да | M82: скорее да | N82: да | O82: Да | P82: скорее да | Q82: скорее да
B83: подбирают (рекомендуют) дополнительную литературу для обучающихся с учетом специфики их особых образовательных потребностей | D83: да | E83: да | F83: скорее да | G83: да | H83: да | I83: да | J83: да | K83: да | L83: скорее да | M83: да | N83: да | O83: Да | P83: да | Q83: да
B84: организуют и обеспечивают сопровождение учебно-исследовательской и проектной деятельности обучающихся. | D84: да | E84: скорее да | F84: скорее да | G84: да | H84: да | I84: да | J84: да | K84: да | L84: скорее да | M84: да | N84: да | O84: Да | P84: скорее да | Q84: да
B85: Количество в ОО педагогических работников, имеющих подготовку по вопросам психологии одаренности | D85: 0 | E85: 1 | F85: 4 | G85: 0 | H85: 1 | I85: 0 | J85: 0 | K85: 0 | L85: 0 | M85: 1 | N85: 1 | O85: 4 | P85: 0 | Q85: 0
B86: Количество педагогов-психологов в штате ОО | D86: 1 | E86: 1 | F86: 0 | G86: 0 | H86: 1 | I86: 0 | J86: 0 | K86: 1 | L86: 1 | M86: 1 | N86: 1 | O86: 0 | P86: 1 | Q86: 0
B87: Участие педагогических работников в семинарах, конференциях и др., по проблемам детской одаренности | D87: да | E87: да | F87: да | G87: да | H87: да | I87: да | J87: да | K87: да | L87: да | M87: да | N87: да | O87: Да | P87: да | Q87: да
B88: Наличие у педагогических работников докладов и выступлений по проблемам детской одаренности | D88: да | E88: скорее да | F88: да | G88: да | H88: да | I88: нет | J88: да | K88: да | L88: да | M88: да | N88: да | O88: Да | P88: да | Q88: нет
A89: 5. | B89: Оценка условий, созданных в образовательной организации для обучения и развития одаренных детей
B90: Оценка психолого-педагогических условий. В ОО обеспечивается:
B91: проведение мониторинга возможностей и способностей обучающихся, выявление детей с особыми образовательными потребностями (одаренных детей) | D91: скорее да | E91: скорее да | F91: скорее да | G91: да | H91: да | I91: да | J91: да | K91: да | L91: да | M91: да | N91: скорее да | O91: Да | P91: да | Q91: нет
B92: вариативность направлений психолого-педагогического сопровождения одаренных детей | D92: скорее да | E92: скорее да | F92: скорее да | G92: нет | H92: нет | I92: нет | J92: да | K92: да | L92: скорее да | M92: да | N92: скорее да | O92: Да | P92: да | Q92: нет
B93: психолого-педагогическая поддержка участников олимпиадного движения | D93: да | E93: да | F93: скорее нет | G93: да | H93: да | I93: 0 | J93: да | K93: да | L93: да | M93: да | N93: да | O93: Да | P93: да | Q93: да
B94: Информационно-образовательная среда ОО включает:
B95: совокупность технологических средств ИКТ (компьютеры, иное информационное оборудование, коммуникационные каналы) | D95: да | E95: да | F95: да | G95: да | H95: да | I95: да | J95: да | K95: да | L95: да | M95: да | N95: да | O95: Да | P95: да | Q95: да
B96: учебники, учебно-методическую литературу по всем учебным предметам (печатные издания и электронные формы учебников) | D96: да | E96: да | F96: скорее да | G96: да | H96: да | I96: да | J96: да | K96: да | L96: да | M96: да | N96: да | O96: Да | P96: да | Q96: да
B97: фонд дополнительной литературы (отечественная и зарубежная, классическая и современная художественная литература; научно-популярная и научно-техническая литература; издания по изобразительному искусству, музыке, физической культуре и спорту, экологии, правилам безопасного поведения на дорогах; справочно-библиографические и периодические издания; собрание словарей; литература по социальному и профессиональному самоопределению обучающихся и т.д.). | D97: да | E97: скорее да | F97: скорее да | G97: да | H97: да | I97: да | J97: да | K97: да | L97: да | M97: да | N97: да | O97: Да | P97: да | Q97: да
B98: Оценка материально-технических условий. В ОО имеются :
B99: учебные кабинеты с автоматизированным рабочим местом учителя | D99: да | E99: скорее да | F99: да | G99: да | H99: да | I99: нет | J99: да | K99: да | L99: нет | M99: да | N99: скорее да | O99: Да | P99: да | Q99: да
B100: кабинеты с автоматизированным рабочим местом ученика | D100: да | E100: скорее нет | F100: скорее да | G100: да | H100: нет | I100: нет | J100: нет | K100: скорее нет | L100: нет | M100: нет | N100: нет | O100: нет | P100: нет | Q100: да
B101: конференц-зал | D101: нет | E101: нет | F101: нет | G101: нет | H101: нет | I101: нет | J101: нет | K101: нет | L101: нет | M101: нет | N101: нет | O101: нет | P101: нет | Q101: нет
...

Sheet Результат
B1: Мониторинг организации работы с одаренными детьми в Ставропольском крае | E1: Город | F1: Село | G1: Всего
A2: 1. | B2: Общие данные
B3: Наименование муниципального образования | E3: =Свод!D3 -> Андроповский_район
B4: Общее количество образовательных организаций | E4: =COUNTIF(Свод!$D4:$BA4,E1) -> 0 | F4: =COUNTIF(Свод!$D4:$BA4,F1) -> 14 | G4: =SUM(E4:F4) -> 14
B5: Вид общеобразовательной организации | C5: СОШ | E5: =COUNTIFS(Свод!$D$6:$BA$6,C5,Свод!$D$4:$BA$4,E$1) -> 0 | F5: =COUNTIFS(Свод!$D$6:$BA$6,C5,Свод!$D$4:$BA$4,F$1) -> 12 | G5: =SUM(E5:F5) -> 12
C6: ООШ | E6: =COUNTIFS(Свод!$D$6:$BA$6,C6,Свод!$D$4:$BA$4,E$1) -> 0 | F6: =COUNTIFS(Свод!$D$6:$BA$6,C6,Свод!$D$4:$BA$4,F$1) -> 2 | G6: =SUM(E6:F6) -> 2
C7: НОШ | E7: =COUNTIFS(Свод!$D$6:$BA$6,C7,Свод!$D$4:$BA$4,E$1) -> 0 | F7: =COUNTIFS(Свод!$D$6:$BA$6,C7,Свод!$D$4:$BA$4,F$1) -> 0 | G7: =SUM(E7:F7) -> 0
C8: лицей | E8: =COUNTIFS(Свод!$D$6:$BA$6,C8,Свод!$D$4:$BA$4,E$1) -> 0 | F8: =COUNTIFS(Свод!$D$6:$BA$6,E8,Свод!$D$4:$BA$4,F$1) -> 0 | G8: =SUM(E8:F8) -> 0
C9: гимназия | E9: =COUNTIFS(Свод!$D$6:$BA$6,C9,Свод!$D$4:$BA$4,E$1) -> 0 | F9: =COUNTIFS(Свод!$D$6:$BA$6,E9,Свод!$D$4:$BA$4,F$1) -> 0 | G9: =SUM(E9:F9) -> 0
C10: школа с углубленным изучением одного и более предметов | E10: =COUNTIFS(Свод!$D$6:$BA$6,C10,Свод!$D$4:$BA$4,E$1) -> 0 | F10: =COUNTIFS(Свод!$D$6:$BA$6,E10,Свод!$D$4:$BA$4,F$1) -> 0 | G10: =SUM(E10:F10) -> 0
C11: центр образования | E11: =COUNTIFS(Свод!$D$6:$BA$6,C11,Свод!$D$4:$BA$4,E$1) -> 0 | F11: =COUNTIFS(Свод!$D$6:$BA$6,E11,Свод!$D$4:$BA$4,F$1) -> 0 | G11: =SUM(E11:F11) -> 0
B12: Количество обучающихся (всего) | E12: =SUMIFS(Свод!$D7:$BA7,Свод!$D$4:$BA$4,E$1) -> 0 | F12: =SUMIFS(Свод!$D7:$BA7,Свод!$D$4:$BA$4,F$1) -> 2985 | G12: =SUM(E12:F12) -> 2985
B13: в 1-4 классах | E13: =SUMIFS(Свод!$D8:$BA8,Свод!$D$4:$BA$4,E$1) -> 0 | F13: =SUMIFS(Свод!$D8:$BA8,Свод!$D$4:$BA$4,F$1) -> 1346 | G13: =SUM(E13:F13) -> 1346
B14: в 5-8 классах | E14: =SUMIFS(Свод!$D9:$BA9,Свод!$D$4:$BA$4,E$1) -> 0 | F14: =SUMIFS(Свод!$D9:$BA9,Свод!$D$4:$BA$4,F$1) -> 1257 | G14: =SUM(E14:F14) -> 1257
B15: в 9,10,11 (12) классах | E15: =SUMIFS(Свод!$D10:$BA10,Свод!$D$4:$BA$4,E$1) -> 0 | F15: =SUMIFS(Свод!$D10:$BA10,Свод!$D$4:$BA$4,F$1) -> 383 | G15: =SUM(E15:F15) -> 383
B16: Количество педагогов (всего) | E16: =SUMIFS(Свод!$D11:$BA11,Свод!$D$4:$BA$4,E$1) -> 0 | F16: =SUMIFS(Свод!$D11:$BA11,Свод!$D$4:$BA$4,F$1) -> 267 | G16: =SUM(E16:F16) -> 267
B17: в том числе, работаюших в 9,10,11 классах | E17: =SUMIFS(Свод!$D12:$BA12,Свод!$D$4:$BA$4,E$1) -> 0 | F17: =SUMIFS(Свод!$D12:$BA12,Свод!$D$4:$BA$4,F$1) -> 156 | G17: =SUM(E17:F17) -> 156
B18: Количество родителей (всего) | E18: =SUMIFS(Свод!$D13:$BA13,Свод!$D$4:$BA$4,E$1) -> 0 | F18: =SUMIFS(Свод!$D13:$BA13,Свод!$D$4:$BA$4,F$1) -> 2533 | G18: =SUM(E18:F18) -> 2533
A19: 2. | B19: Организация работы с одаренными детьми в образовательных организациях
B20: Наличие в Программе развития блока, направленного на работу с одаренными детьми | D20: Да | E20: =COUNTIFS(Свод!$D$4:$BA$4,E1,Свод!$D$15:$BA$15,$D20) -> 0 | F20: =COUNTIFS(Свод!$D$4:$BA$4,F1,Свод!$D$15:$BA$15,$D20) -> 14 | G20: =SUM(E20:F20) -> 14
D21: Нет | E21: =COUNTIFS(Свод!$D$4:$BA$4,E2,Свод!$D$15:$BA$15,$D21) -> 0 | F21: =COUNTIFS(Свод!$D$4:$BA$4,F2,Свод!$D$15:$BA$15,$D21) -> 0 | G21: =SUM(E21:F21) -> 0
B22: Наличие целевой программы по работе с одаренными детьми | D22: краткосрочная (1-2 года) | E22: =COUNTIFS(Свод!$D$4:$BA$4,E1,Свод!$D$16:$BA$16,$D22) -> 0 | F22: =COUNTIFS(Свод!$D$4:$BA$4,F1,Свод!$D$16:$BA$16,$D22) -> 9 | G22: =SUM(E22:F22) -> 9
D23: долгосрочная (3 года и более) | E23: =COUNTIFS(Свод!$D$4:$BA$4,E1,Свод!$D$16:$BA$16,$D23) -> 0 | F23: =COUNTIFS(Свод!$D$4:$BA$4,F1,Свод!$D$16:$BA$16,$D23) -> 4 | G23: =SUM(E23:F23) -> 4
D24: в стадии разработки | E24: =COUNTIFS(Свод!$D$4:$BA$4,E1,Свод!$D$16:$BA$16,$D24) -> 0 | F24: =COUNTIFS(Свод!$D$4:$BA$4,F1,Свод!$D$16:$BA$16,$D24) -> 1 | G24: =SUM(E24:F24) -> 1
D25: нет | E25: =COUNTIFS(Свод!$D$4:$BA$4,E1,Свод!$D$16:$BA$16,$D25) -> 0 | F25: =COUNTIFS(Свод!$D$4:$BA$4,F1,Свод!$D$16:$BA$16,$D25) -> 0 | G25: =SUM(E25:F25) -> 0
B26: Наличие плана работы с одаренными детьми | D26: Да | E26: =COUNTIFS(Свод!$D$4:$BA$4,E1,Свод!$D$17:$BA$17,$D26) -> 0 | F26: =COUNTIFS(Свод!$D$4:$BA$4,F1,Свод!$D$17:$BA$17,$D26) -> 14 | G26: =SUM(E26:F26) -> 14
D27: Нет | E27: =COUNTIFS(Свод!$D$4:$BA$4,E1,Свод!$D$17:$BA$17,$D27) -> 0 | F27: =COUNTIFS(Свод!$D$4:$BA$4,F1,Свод!$D$17:$BA$17,$D27) -> 0 | G27: =SUM(E27:F27) -> 0
B28: Наличие в ОО нормативно- правовых документов, локальных актов, регулирующих работу с одаренными детьми
B29: федерального уровня | D29: Да | E29: =COUNTIFS(Свод!$D$4:$BA$4,E1,Свод!$D$19:$BA$19,$D29) -> 0 | F29: =COUNTIFS(Свод!$D$4:$BA$4,F1,Свод!$D$19:$BA$19,$D29) -> 10 | G29: =SUM(E29:F29) -> 10
D30: Нет | E30: =COUNTIFS(Свод!$D$4:$BA$4,E1,Свод!$D$19:$BA$19,$D30) -> 0 | F30: =COUNTIFS(Свод!$D$4:$BA$4,F1,Свод!$D$19:$BA$19,$D30) -> 4 | G30: =SUM(E30:F30) -> 4
B31: краевого уровня | D31: Да | E31: =COUNTIFS(Свод!$D$4:$BA$4,E1,Свод!$D$20:$BA$20,$D31) -> 0 | F31: =COUNTIFS(Свод!$D$4:$BA$4,F1,Свод!$D$20:$BA$20,$D31) -> 14 | G31: =SUM(E31:F31) -> 14
D32: Нет | E32: =COUNTIFS(Свод!$D$4:$BA$4,E1,Свод!$D$20:$BA$20,$D32) -> 0 | F32: =COUNTIFS(Свод!$D$4:$BA$4,F1,Свод!$D$20:$BA$20,$D32) -> 0 | G32: =SUM(E32:F32) -> 0
B33: муниципального уровня | D33: Да | E33: =COUNTIFS(Свод!$D$4:$BA$4,E$1,Свод!$D$20:$BA$20,$D33) -> 0 | F33: =COUNTIFS(Свод!$D$4:$BA$4,F$1,Свод!$D$20:$BA$20,$D33) -> 14 | G33: =SUM(E33:F33) -> 14
D34: Нет | E34: =COUNTIFS(Свод!$D$4:$BA$4,E$1,Свод!$D$20:$BA$20,$D34) -> 0 | F34: =COUNTIFS(Свод!$D$4:$BA$4,F$1,Свод!$D$20:$BA$20,$D34) -> 0 | G34: =SUM(E34:F34) -> 0
B35: уровня ОО | D35: Да | E35: =COUNTIFS(Свод!$D$4:$BA$4,E$1,Свод!$D$21:$BA$21,$D35) -> 0 | F35: =COUNTIFS(Свод!$D$4:$BA$4,F$1,Свод!$D$21:$BA$21,$D35) -> 14 | G35: =SUM(E35:F35) -> 14
D36: Нет | E36: =COUNTIFS(Свод!$D$4:$BA$4,E$1,Свод!$D$21:$BA$21,$D36) -> 0 | F36: =COUNTIFS(Свод!$D$4:$BA$4,F$1,Свод!$D$21:$BA$21,$D36) -> 0 | G36: =SUM(E36:F36) -> 0
B37: Рассмотрение вопросов по работе с одаренными детьми на заседаниях
B38: управляющего совета | D38: Да | E38: =COUNTIFS(Свод!$D$4:$BA$4,E$1,Свод!$D$24:$BA$24,$D38) -> 0 | F38: =COUNTIFS(Свод!$D$4:$BA$4,F$1,Свод!$D$24:$BA$24,$D38) -> 14 | G38: =SUM(E38:F38) -> 14
D39: Нет | E39: =COUNTIFS(Свод!$D$4:$BA$4,E$1,Свод!$D$24:$BA$24,$D39) -> 0 | F39: =COUNTIFS(Свод!$D$4:$BA$4,F$1,Свод!$D$24:$BA$24,$D39) -> 0 | G39: =SUM(E39:F39) -> 0
B40: общешкольного родительского комитета | D40: Да | E40: =COUNTIFS(Свод!$D$4:$BA$4,E$1,Свод!$D$25:$BA$25,$D40) -> 0 | F40: =COUNTIFS(Свод!$D$4:$BA$4,F$1,Свод!$D$25:$BA$25,$D40) -> 14 | G40: =SUM(E40:F40) -> 14
D41: Нет | E41: =COUNTIFS(Свод!$D$4:$BA$4,E$1,Свод!$D$25:$BA$25,$D41) -> 0 | F41: =COUNTIFS(Свод!$D$4:$BA$4,F$1,Свод!$D$25:$BA$25,$D41) -> 0 | G41: =SUM(E41:F41) -> 0
B42: педагогического совета | D42: Да | E42: =COUNTIFS(Свод!$D$4:$BA$4,E$1,Свод!$D$26:$BA$26,$D42) -> 0 | F42: =COUNTIFS(Свод!$D$4:$BA$4,F$1,Свод!$D$26:$BA$26,$D42) -> 14 | G42: =SUM(E42:F42) -> 14
D43: Нет | E43: =COUNTIFS(Свод!$D$4:$BA$4,E$1,Свод!$D$26:$BA$26,$D43) -> 0 | F43: =COUNTIFS(Свод!$D$4:$BA$4,F$1,Свод!$D$26:$BA$26,$D43) -> 0 | G43: =SUM(E43:F43) -> 0
B44: методического совета | D44: Да | E44: =COUNTIFS(Свод!$D$4:$BA$4,E$1,Свод!$D$27:$BA$27,$D44) -> 0 | F44: =COUNTIFS(Свод!$D$4:$BA$4,F$1,Свод!$D$27:$BA$27,$D44) -> 13 | G44: =SUM(E44:F44) -> 13
D45: Нет | E45: =COUNTIFS(Свод!$D$4:$BA$4,E$1,Свод!$D$27:$BA$27,$D45) -> 0 | F45: =COUNTIFS(Свод!$D$4:$BA$4,F$1,Свод!$D$27:$BA$27,$D45) -> 0 | G45: =SUM(E45:F45) -> 0
B46: Наличие в ОО ответственного за работу с одаренными детьми (нормативно закрепленное) | D46: Да | E46: =COUNTIFS(Свод!$D$4:$BA$4,E$1,Свод!$D$28:$BA$28,$D46) -> 0 | F46: =COUNTIFS(Свод!$D$4:$BA$4,F$1,Свод!$D$28:$BA$28,$D46) -> 13 | G46: =SUM(E46:F46) -> 13
D47: Нет | E47: =COUNTIFS(Свод!$D$4:$BA$4,E$1,Свод!$D$28:$BA$28,$D47) -> 0 | F47: =COUNTIFS(Свод!$D$4:$BA$4,F$1,Свод!$D$28:$BA$28,$D47) -> 1 | G47: =SUM(E47:F47) -> 1
B48: Наличие в ОО инновационной деятельности в сфере работы с одаренными детьми | D48: Да | E48: =COUNTIFS(Свод!$D$4:$BA$4,E$1,Свод!$D$29:$BA$29,$D48) -> 0 | F48: =COUNTIFS(Свод!$D$4:$BA$4,F$1,Свод!$D$29:$BA$29,$D48) -> 0 | G48: =SUM(E48:F48) -> 0
D49: Нет | E49: =COUNTIFS(Свод!$D$4:$BA$4,E$1,Свод!$D$29:$BA$29,$D49) -> 0 | F49: =COUNTIFS(Свод!$D$4:$BA$4,F$1,Свод!$D$29:$BA$29,$D49) -> 14 | G49: =SUM(E49:F49) -> 14
B50: Наличие в ОО банка данных о детях с повышенным уровнем способностей в разных видах деятельности:
B51: интеллектуальная | D51: Да | E51: =COUNTIFS(Свод!$D$4:$BA$4,E$1,Свод!$D$32:$BA$32,$D51) -> 0 | F51: =COUNTIFS(Свод!$D$4:$BA$4,F$1,Свод!$D$32:$BA$32,$D51) -> 14 | G51: =SUM(E51:F51) -> 14
D52: Нет | E52: =COUNTIFS(Свод!$D$4:$BA$4,E$1,Свод!$D$32:$BA$32,$D52) -> 0 | F52: =COUNTIFS(Свод!$D$4:$BA$4,F$1,Свод!$D$32:$BA$32,$D52) -> 0 | G52: =SUM(E52:F52) -> 0
B53: академическая (научная) | D53: Да | E53: =COUNTIFS(Свод!$D$4:$BA$4,E$1,Свод!$D$33:$BA$33,$D53) -> 0 | F53: =COUNTIFS(Свод!$D$4:$BA$4,F$1,Свод!$D$33:$BA$33,$D53) -> 8 | G53: =SUM(E53:F53) -> 8
D54: Нет | E54: =COUNTIFS(Свод!$D$4:$BA$4,E$1,Свод!$D$33:$BA$33,$D54) -> 0 | F54: =COUNTIFS(Свод!$D$4:$BA$4,F$1,Свод!$D$33:$BA$33,$D54) -> 6 | G54: =SUM(E54:F54) -> 6
B55: художественно – изобразительная | D55: Да | E55: =COUNTIFS(Свод!$D$4:$BA$4,E$1,Свод!$D$34:$BA$34,$D55) -> 0 | F55: =COUNTIFS(Свод!$D$4:$BA$4,F$1,Свод!$D$34:$BA$34,$D55) -> 12 | G55: =SUM(E55:F55) -> 12
D56: Нет | E56: =COUNTIFS(Свод!$D$4:$BA$4,E$1,Свод!$D$34:$BA$34,$D56) -> 0 | F56: =COUNTIFS(Свод!$D$4:$BA$4,F$1,Свод!$D$34:$BA$34,$D56) -> 2 | G56: =SUM(E56:F56) -> 2
B57: музыкальная | D57: Да | E57: =COUNTIFS(Свод!$D$4:$BA$4,E$1,Свод!$D$35:$BA$35,$D57) -> 0 | F57: =COUNTIFS(Свод!$D$4:$BA$4,F$1,Свод!$D$35:$BA$35,$D57) -> 12 | G57: =SUM(E57:F57) -> 12
D58: Нет | E58: =COUNTIFS(Свод!$D$4:$BA$4,E$1,Свод!$D$35:$BA$35,$D58) -> 0 | F58: =COUNTIFS(Свод!$D$4:$BA$4,F$1,Свод!$D$35:$BA$35,$D58) -> 2 | G58: =SUM(E58:F58) -> 2
B59: литературная | D59: Да | E59: =COUNTIFS(Свод!$D$4:$BA$4,E$1,Свод!$D$36:$BA$36,$D59) -> 0 | F59: =COUNTIFS(Свод!$D$4:$BA$4,F$1,Свод!$D$36:$BA$36,$D59) -> 14 | G59: =SUM(E59:F59) -> 14
D60: Нет | E60: =COUNTIFS(Свод!$D$4:$BA$4,E$1,Свод!$D$36:$BA$36,$D60) -> 0 | F60: =COUNTIFS(Свод!$D$4:$BA$4,F$1,Свод!$D$36:$BA$36,$D60) -> 0 | G60: =SUM(E60:F60) -> 0
B61: техническая | D61: Да | E61: =COUNTIFS(Свод!$D$4:$BA$4,E$1,Свод!$D$37:$BA$37,$D61) -> 0 | F61: =COUNTIFS(Свод!$D$4:$BA$4,F$1,Свод!$D$37:$BA$37,$D61) -> 6 | G61: =SUM(E61:F61) -> 6
D62: Нет | E62: =COUNTIFS(Свод!$D$4:$BA$4,E$1,Свод!$D$37:$BA$37,$D62) -> 0 | F62: =COUNTIFS(Свод!$D$4:$BA$4,F$1,Свод!$D$37:$BA$37,$D62) -> 8 | G62: =SUM(E62:F62) -> 8
B63: социальная | D63: Да | E63: =COUNTIFS(Свод!$D$4:$BA$4,E$1,Свод!$D$38:$BA$38,$D63) -> 0 | F63: =COUNTIFS(Свод!$D$4:$BA$4,F$1,Свод!$D$38:$BA$38,$D63) -> 10 | G63: =SUM(E63:F63) -> 10
D64: Нет | E64: =COUNTIFS(Свод!$D$4:$BA$4,E$1,Свод!$D$38:$BA$38,$D64) -> 0 | F64: =COUNTIFS(Свод!$D$4:$BA$4,F$1,Свод!$D$38:$BA$38,$D64) -> 4 | G64: =SUM(E64:F64) -> 4
B65: спортивная | D65: Да | E65: =COUNTIFS(Свод!$D$4:$BA$4,E$1,Свод!$D$39:$BA$39,$D65) -> 0 | F65: =COUNTIFS(Свод!$D$4:$BA$4,F$1,Свод!$D$39:$BA$39,$D65) -> 13 | G65: =SUM(E65:F65) -> 13
D66: Нет | E66: =COUNTIFS(Свод!$D$4:$BA$4,E$1,Свод!$D$39:$BA$39,$D66) -> 0 | F66: =COUNTIFS(Свод!$D$4:$BA$4,F$1,Свод!$D$39:$BA$39,$D66) -> 1 | G66: =SUM(E66:F66) -> 1
B67: Наличие в ОО инструментария (банка анкет, опросников и др.) по выявлению одаренности у детей | D67: да | E67: =COUNTIFS(Свод!$D$4:$BA$4,E$1,Свод!$D$40:$BA$40,$D67) -> 0 | F67: =COUNTIFS(Свод!$D$4:$BA$4,F$1,Свод!$D$40:$BA$40,$D67) -> 10 | G67: =SUM(E67:F67) -> 10
D68: скорее да | E68: =COUNTIFS(Свод!$D$4:$BA$4,E$1,Свод!$D$40:$BA$40,$D68) -> 0 | F68: =COUNTIFS(Свод!$D$4:$BA$4,F$1,Свод!$D$40:$BA$40,$D68) -> 3 | G68: =SUM(E68:F68) -> 3
D69: скорее нет | E69: =COUNTIFS(Свод!$D$4:$BA$4,E$1,Свод!$D$40:$BA$40,$D69) -> 0 | F69: =COUNTIFS(Свод!$D$4:$BA$4,F$1,Свод!$D$40:$BA$40,$D69) -> 1 | G69: =SUM(E69:F69) -> 1
D70: нет | E70: =COUNTIFS(Свод!$D$4:$BA$4,E$1,Свод!$D$40:$BA$40,$D70) -> 0 | F70: =COUNTIFS(Свод!$D$4:$BA$4,F$1,Свод!$D$40:$BA$40,$D70) -> 0 | G70: =SUM(E70:F70) -> 0
B71: Организационная модель работы с одаренными детьми в ОО:
B72: центр дополнительного образования на базе ОО | D72: Да | E72: =COUNTIFS(Свод!$D$4:$BA$4,E$1,Свод!$D$42:$BA$42,$D72) -> 0 | F72: =COUNTIFS(Свод!$D$4:$BA$4,F$1,Свод!$D$42:$BA$42,$D72) -> 2 | G72: =SUM(E72:F72) -> 2
D73: Нет | E73: =COUNTIFS(Свод!$D$4:$BA$4,E$1,Свод!$D$42:$BA$42,$D73) -> 0 | F73: =COUNTIFS(Свод!$D$4:$BA$4,F$1,Свод!$D$42:$BA$42,$D73) -> 12 | G73: =SUM(E73:F73) -> 12
B74: школа полного дня | D74: Да | E74: =COUNTIFS(Свод!$D$4:$BA$4,E$1,Свод!$D$43:$BA$43,$D74) -> 0 | F74: =COUNTIFS(Свод!$D$4:$BA$4,F$1,Свод!$D$43:$BA$43,$D74) -> 1 | G74: =SUM(E74:F74) -> 1
D75: Нет | E75: =COUNTIFS(Свод!$D$4:$BA$4,E$1,Свод!$D$43:$BA$43,$D75) -> 0 | F75: =COUNTIFS(Свод!$D$4:$BA$4,F$1,Свод!$D$43:$BA$43,$D75) -> 13 | G75: =SUM(E75:F75) -> 13
B76: центр по работе с одаренными детьми | D76: Да | E76: =COUNTIFS(Свод!$D$4:$BA$4,E$1,Свод!$D$44:$BA$44,$D76) -> 0 | F76: =COUNTIFS(Свод!$D$4:$BA$4,F$1,Свод!$D$44:$BA$44,$D76) -> 2 | G76: =SUM(E76:F76) -> 2
D77: Нет | E77: =COUNTIFS(Свод!$D$4:$BA$4,E$1,Свод!$D$44:$BA$44,$D77) -> 0 | F77: =COUNTIFS(Свод!$D$4:$BA$4,F$1,Свод!$D$44:$BA$44,$D77) -> 12 | G77: =SUM(E77:F77) -> 12
B78: филиал МАН | D78: Да | E78: =COUNTIFS(Свод!$D$4:$BA$4,E$1,Свод!$D$45:$BA$45,$D78) -> 0 | F78: =COUNTIFS(Свод!$D$4:$BA$4,F$1,Свод!$D$45:$BA$45,$D78) -> 0 | G78: =SUM(E78:F78) -> 0
D79: Нет | E79: =COUNTIFS(Свод!$D$4:$BA$4,E$1,Свод!$D$45:$BA$45,$D79) -> 0 | F79: =COUNTIFS(Свод!$D$4:$BA$4,F$1,Свод!$D$45:$BA$45,$D79) -> 14 | G79: =SUM(E79:F79) -> 14
B80: школьное научное общество учащихся | D80: Да | E80: =COUNTIFS(Свод!$D$4:$BA$4,E$1,Свод!$D$46:$BA$46,$D80) -> 0 | F80: =COUNTIFS(Свод!$D$4:$BA$4,F$1,Свод!$D$46:$BA$46,$D80) -> 4 | G80: =SUM(E80:F80) -> 4
D81: Нет | E81: =COUNTIFS(Свод!$D$4:$BA$4,E$1,Свод!$D$46:$BA$46,$D81) -> 0 | F81: =COUNTIFS(Свод!$D$4:$BA$4,F$1,Свод!$D$46:$BA$46,$D81) -> 10 | G81: =SUM(E81:F81) -> 10
B82: система внеурочной деятельности | D82: Да | E82: =COUNTIFS(Свод!$D$4:$BA$4,E$1,Свод!$D$47:$BA$47,$D82) -> 0 | F82: =COUNTIFS(Свод!$D$4:$BA$4,F$1,Свод!$D$47:$BA$47,$D82) -> 14 | G82: =SUM(E82:F82) -> 14
D83: Нет | E83: =COUNTIFS(Свод!$D$4:$BA$4,E$1,Свод!$D$47:$BA$47,$D83) -> 0 | F83: =COUNTIFS(Свод!$D$4:$BA$4,F$1,Свод!$D$47:$BA$47,$D83) -> 0 | G83: =SUM(E83:F83) -> 0
A84: 3. | B84: Система работы по развитию способностей у детей в ОО
B85: Осуществление психолого- педагогического сопровождения одаренных детей | D85: да | E85: =COUNTIFS(Свод!$D$4:$BA$4,E$1,Свод!$D$49:$BA$49,$D85) -> 0 | F85: =COUNTIFS(Свод!$D$4:$BA$4,F$1,Свод!$D$49:$BA$49,$D85) -> 8 | G85: =SUM(E85:F85) -> 8
D86: скорее да | E86: =COUNTIFS(Свод!$D$4:$BA$4,E$1,Свод!$D$49:$BA$49,$D86) -> 0 | F86: =COUNTIFS(Свод!$D$4:$BA$4,F$1,Свод!$D$49:$BA$49,$D86) -> 4 | G86: =SUM(E86:F86) -> 4
D87: скорее нет | E87: =COUNTIFS(Свод!$D$4:$BA$4,E$1,Свод!$D$49:$BA$49,$D87) -> 0 | F87: =COUNTIFS(Свод!$D$4:$BA$4,F$1,Свод!$D$49:$BA$49,$D87) -> 1 | G87: =SUM(E87:F87) -> 1
D88: нет | E88: =COUNTIFS(Свод!$D$4:$BA$4,E$1,Свод!$D$49:$BA$49,$D88) -> 0 | F88: =COUNTIFS(Свод!$D$4:$BA$4,F$1,Свод!$D$49:$BA$49,$D88) -> 1 | G88: =SUM(E88:F88) -> 1
B89: психодиагностика, мониторинг | D89: да | E89: =COUNTIFS(Свод!$D$4:$BA$4,E$1,Свод!$D$50:$BA$50,$D89) -> 0 | F89: =COUNTIFS(Свод!$D$4:$BA$4,F$1,Свод!$D$50:$BA$50,$D89) -> 7 | G89: =SUM(E89:F89) -> 7
D90: скорее да | E90: =COUNTIFS(Свод!$D$4:$BA$4,E$1,Свод!$D$50:$BA$50,$D90) -> 0 | F90: =COUNTIFS(Свод!$D$4:$BA$4,F$1,Свод!$D$50:$BA$50,$D90) -> 6 | G90: =SUM(E90:F90) -> 6
D91: скорее нет | E91: =COUNTIFS(Свод!$D$4:$BA$4,E$1,Свод!$D$50:$BA$50,$D91) -> 0 | F91: =COUNTIFS(Свод!$D$4:$BA$4,F$1,Свод!$D$50:$BA$50,$D91) -> 1 | G91: =SUM(E91:F91) -> 1
D92: нет | E92: =COUNTIFS(Свод!$D$4:$BA$4,E$1,Свод!$D$50:$BA$50,$D92) -> 0 | F92: =COUNTIFS(Свод!$D$4:$BA$4,F$1,Свод!$D$50:$BA$50,$D92) -> 0 | G92: =SUM(E92:F92) -> 0
B93: коррекционно- развивающие занятия | D93: да | E93: =COUNTIFS(Свод!$D$4:$BA$4,E$1,Свод!$D$51:$BA$51,$D93) -> 0 | F93: =COUNTIFS(Свод!$D$4:$BA$4,F$1,Свод!$D$51:$BA$51,$D93) -> 5 | G93: =SUM(E93:F93) -> 5
D94: скорее да | E94: =COUNTIFS(Свод!$D$4:$BA$4,E$1,Свод!$D$51:$BA$51,$D94) -> 0 | F94: =COUNTIFS(Свод!$D$4:$BA$4,F$1,Свод!$D$51:$BA$51,$D94) -> 3 | G94: =SUM(E94:F94) -> 3
D95: скорее нет | E95: =COUNTIFS(Свод!$D$4:$BA$4,E$1,Свод!$D$51:$BA$51,$D95) -> 0 | F95: =COUNTIFS(Свод!$D$4:$BA$4,F$1,Свод!$D$51:$BA$51,$D95) -> 3 | G95: =SUM(E95:F95) -> 3
D96: нет | E96: =COUNTIFS(Свод!$D$4:$BA$4,E$1,Свод!$D$51:$BA$51,$D96) -> 0 | F96: =COUNTIFS(Свод!$D$4:$BA$4,F$1,Свод!$D$51:$BA$51,$D96) -> 3 | G96: =SUM(E96:F96) -> 3
B97: занятия подготовке к конкурсам, олимпиадам, смотрам, соревнованиям | D97: да | E97: =COUNTIFS(Свод!$D$4:$BA$4,E$1,Свод!$D$52:$BA$52,$D97) -> 0 | F97: =COUNTIFS(Свод!$D$4:$BA$4,F$1,Свод!$D$52:$BA$52,$D97) -> 13 | G97: =SUM(E97:F97) -> 13
D98: скорее да | E98: =COUNTIFS(Свод!$D$4:$BA$4,E$1,Свод!$D$52:$BA$52,$D98) -> 0 | F98: =COUNTIFS(Свод!$D$4:$BA$4,F$1,Свод!$D$52:$BA$52,$D98) -> 1 | G98: =SUM(E98:F98) -> 1
D99: скорее нет | E99: =COUNTIFS(Свод!$D$4:$BA$4,E$1,Свод!$D$52:$BA$52,$D99) -> 0 | F99: =COUNTIFS(Свод!$D$4:$BA$4,F$1,Свод!$D$52:$BA$52,$D99) -> 0 | G99: =SUM(E99:F99) -> 0
D100: нет | E100: =COUNTIFS(Свод!$D$4:$BA$4,E$1,Свод!$D$52:$BA$52,$D100) -> 0 | F100: =COUNTIFS(Свод!$D$4:$BA$4,F$1,Свод!$D$52:$BA$52,$D100) -> 0 | G100: =SUM(E100:F100) -> 0
...

Sheet Лист3
A1: Город | B1: да, заместитель директора | C1: нет | D1: да | E1: от 1 класса до 11 класса
A2: Село | B2: да, педагогический работник | C2: да, площадка федерального уровня | D2: скорее да | E2: от 2 класса до 11 класса
A3: Да | B3: да, психолог | C3: да, площадка краевого уровня | D3: скорее нет | E3: от 3 класса до 11 класса
A4: Нет | B4: нет | C4: да, площадка муниципального уровня | D4: нет | E4: от 4 класса до 11 класса
E5: от 5 класса до 11 класса
A6: СОШ | E6: от 6 класса до 11 класса
A7: ООШ | E7: от 7 класса до 11 класса
A8: НОШ | E8: от 8 класса до 11 класса
A9: лицей | E9: от 9 класса до 11 класса
A10: гимназия | E10: от 10 класса до 11 класса
A11: школа с углубленным изучением одного и более предметов | E11: 11 класс
A12: центр образования
A14: краткосрочная (1-2 года)
A15: долгосрочная (3 года и более)
A16: в стадии разработки
A17: нет
